BEGIN:VCALENDAR
VERSION:2.0
PRODID:-//wp-events-plugin.com//7.2.3.1//EN
TZID:Europe/Paris
X-WR-TIMEZONE:Europe/Paris
BEGIN:VEVENT
UID:11864@agenda24.fr
DTSTART;TZID=Europe/Paris:20260308T153000
DTEND;TZID=Europe/Paris:20260308T153000
DTSTAMP:20260301T135836Z
URL:https://agenda24.fr/evenements/piece-de-theatre-12-jures-en-colere/
SUMMARY:Pièce de Théâtre: "12 jurés en colère"
DESCRIPTION:La pièce “12 jurés en colère”\, d’après l’œuvre de
  Reginald Rose (12 Angry Men)\, sera prochainement présentée à la\n\nSa
 lle des fêtes de Saint-Avit-Sénieur\n\nUne soirée placée sous le signe
  du théâtre et de l’intensité dramatique\, autour d’un texte devenu
  un grand classique de la scène internationale.\n\nTarifs\n\n10 € – A
 dultes\n\n5 € – Enfants de moins de 10 ans
CATEGORIES:Spectacle
LOCATION:Saint-Avit-Senieur\, Saint-Avit-Senieur\, Saint-Avit-Senieur\, Fra
 nce
GEO:44.775257;0.81711499
X-APPLE-STRUCTURED-LOCATION;VALUE=URI;X-ADDRESS=Saint-Avit-Senieur\, Saint-
 Avit-Senieur\, France;X-APPLE-RADIUS=100;X-TITLE=Saint-Avit-Senieur:geo:44
 .775257,0.81711499
END:VEVENT
BEGIN:VTIMEZONE
TZID:Europe/Paris
X-LIC-LOCATION:Europe/Paris
BEGIN:STANDARD
DTSTART:20251026T020000
TZOFFSETFROM:+0200
TZOFFSETTO:+0100
TZNAME:CET
END:STANDARD
END:VTIMEZONE
END:VCALENDAR