BEGIN:VCALENDAR
VERSION:2.0
PRODID:-//wp-events-plugin.com//7.2.3.1//EN
TZID:Europe/Paris
X-WR-TIMEZONE:Europe/Paris
BEGIN:VEVENT
UID:11160@agenda24.fr
DTSTART;TZID=Europe/Paris:20260219T143000
DTEND;TZID=Europe/Paris:20260219T163000
DTSTAMP:20260424T151211Z
URL:
SUMMARY:Permanence numérique
DESCRIPTION:Besoin d’un coup de pouce pour vos démarches en ligne ou pou
 r mieux utiliser votre smartphone\, tablette ou ordinateur ? Un agent déd
 ié sera là pour vous accompagner pas à pas\, dans une ambiance simple e
 t conviviale. \n\nPublic : habitants du territoire de la CCIVS.\n\n14h30-1
 6h30\, CIAS\nGratuit\, sur inscription\n\nPôle Social de la CCIVS  05 53 
 80 86 86
LOCATION:CIAS\, CIAS\, Neuvic\, France
GEO:45.096639;0.475301
X-APPLE-STRUCTURED-LOCATION;VALUE=URI;X-ADDRESS=CIAS\, Neuvic\, France;X-AP
 PLE-RADIUS=100;X-TITLE=CIAS:geo:45.096639,0.475301
END:VEVENT
BEGIN:VTIMEZONE
TZID:Europe/Paris
X-LIC-LOCATION:Europe/Paris
BEGIN:STANDARD
DTSTART:20251026T020000
TZOFFSETFROM:+0200
TZOFFSETTO:+0100
TZNAME:CET
END:STANDARD
END:VTIMEZONE
END:VCALENDAR