BEGIN:VCALENDAR
VERSION:2.0
PRODID:-//wp-events-plugin.com//7.2.3.1//EN
TZID:Europe/Paris
X-WR-TIMEZONE:Europe/Paris
BEGIN:VEVENT
UID:10211@agenda24.fr
DTSTART;TZID=Europe/Paris:20251211T143000
DTEND;TZID=Europe/Paris:20251211T163000
DTSTAMP:20251210T134244Z
URL:https://agenda24.fr/evenements/permanence-numerique-10/
SUMMARY:Permanence numérique
DESCRIPTION:Besoin d’un coup de pouce pour vos démarches en ligne ou pou
 r mieux utiliser votre smartphone\, tablette ou ordinateur ? Un agent déd
 ié sera là pour vous accompagner pas à pas\, dans une ambiance simple e
 t conviviale. Public : habitants du territoire de la CCIVS.\n\n14h30-16h30
 \, Mairie. \nGratuit\, sur inscription.\n\nPôle Social de la CCIVS  05 53
  80 86 86
CATEGORIES:Evènement à thème
LOCATION:Montrem\, Montrem\, Montrem\, France
GEO:45.153083;0.564006
X-APPLE-STRUCTURED-LOCATION;VALUE=URI;X-ADDRESS=Montrem\, Montrem\, France;
 X-APPLE-RADIUS=100;X-TITLE=Montrem:geo:45.153083,0.564006
END:VEVENT
BEGIN:VTIMEZONE
TZID:Europe/Paris
X-LIC-LOCATION:Europe/Paris
BEGIN:STANDARD
DTSTART:20251026T020000
TZOFFSETFROM:+0200
TZOFFSETTO:+0100
TZNAME:CET
END:STANDARD
END:VTIMEZONE
END:VCALENDAR