BEGIN:VCALENDAR
VERSION:2.0
PRODID:-//wp-events-plugin.com//7.2.3.1//EN
TZID:Europe/Paris
X-WR-TIMEZONE:Europe/Paris
BEGIN:VEVENT
UID:11681@agenda24.fr
DTSTART;TZID=Europe/Paris:20260301T160000
DTEND;TZID=Europe/Paris:20260301T160000
DTSTAMP:20260301T135042Z
URL:https://agenda24.fr/evenements/performance-et-poetique-musicale-mugir/
SUMMARY:Performance et poétique musicale : Mugir
DESCRIPTION:13 voyages sonores intimistes pour traverser ensemble notre enf
 ance\, nos désirs de liberté et toutes les questions sans réponse. Déc
 onseillé au moins de 12 ans. 
CATEGORIES:Atelier / Stage
LOCATION:Pole d'animation culturelle\, Avenue d'Aquitaine \, le Buisson-de-
 Cadouin\, France
GEO:44.8476068;0.90364775
X-APPLE-STRUCTURED-LOCATION;VALUE=URI;X-ADDRESS=Avenue d'Aquitaine \, le Bu
 isson-de-Cadouin\, France;X-APPLE-RADIUS=100;X-TITLE=Pole d'animation cult
 urelle:geo:44.8476068,0.90364775
END:VEVENT
BEGIN:VTIMEZONE
TZID:Europe/Paris
X-LIC-LOCATION:Europe/Paris
BEGIN:STANDARD
DTSTART:20251026T020000
TZOFFSETFROM:+0200
TZOFFSETTO:+0100
TZNAME:CET
END:STANDARD
END:VTIMEZONE
END:VCALENDAR