BEGIN:VCALENDAR
VERSION:2.0
PRODID:-//wp-events-plugin.com//7.2.3.1//EN
TZID:Europe/Paris
X-WR-TIMEZONE:Europe/Paris
BEGIN:VEVENT
UID:11829@agenda24.fr
DTSTART;TZID=Europe/Paris:20260317T123000
DTEND;TZID=Europe/Paris:20260317T130000
DTSTAMP:20260301T135157Z
URL:https://agenda24.fr/evenements/patrimoine-sur-le-pouce-sculptures-dyvo
 nne-clergerie/
SUMMARY:Patrimoine sur le pouce - Sculptures d'Yvonne Clergerie
DESCRIPTION:Découvrez sur des espaces publics deux œuvres d’Yvonne Cler
 gerie\, artiste contemporaine qui a mis la figure de la femme au cœur de 
 son travail.\nDans le cadre du Mois des droits des femmes\n30 min | Gratui
 t\nRDV dans la cour de l’Hôtel de Ville\n
CATEGORIES:Tourisme / Patrimoine
LOCATION:Cour de l'Hôtel de ville\, 23 rue du Président Wilson\, Périgue
 ux\, France
GEO:45.1839493;0.71597926
X-APPLE-STRUCTURED-LOCATION;VALUE=URI;X-ADDRESS=23 rue du Président Wilson
 \, Périgueux\, France;X-APPLE-RADIUS=100;X-TITLE=Cour de l'Hôtel de vill
 e:geo:45.1839493,0.71597926
END:VEVENT
BEGIN:VTIMEZONE
TZID:Europe/Paris
X-LIC-LOCATION:Europe/Paris
BEGIN:STANDARD
DTSTART:20251026T020000
TZOFFSETFROM:+0200
TZOFFSETTO:+0100
TZNAME:CET
END:STANDARD
END:VTIMEZONE
END:VCALENDAR