BEGIN:VCALENDAR
VERSION:2.0
PRODID:-//wp-events-plugin.com//7.2.3.1//EN
TZID:Europe/Paris
X-WR-TIMEZONE:Europe/Paris
BEGIN:VEVENT
UID:4006@agenda24.fr
DTSTART;TZID=Europe/Paris:20241125T150000
DTEND;TZID=Europe/Paris:20241125T163000
DTSTAMP:20241030T091155Z
URL:https://agenda24.fr/evenements/passeurs-de-patrimoine-visite-ludique/
SUMMARY:Passeurs de patrimoine - Visite Ludique
DESCRIPTION:
CATEGORIES:Tourisme / Patrimoine
LOCATION:Place Saint-Louis\, Rue Éguillerie\, Périgueux\, France
GEO:45.1850536;0.72167952
X-APPLE-STRUCTURED-LOCATION;VALUE=URI;X-ADDRESS=Rue Éguillerie\, Périgueu
 x\, France;X-APPLE-RADIUS=100;X-TITLE=Place Saint-Louis:geo:45.1850536,0.7
 2167952
END:VEVENT
BEGIN:VTIMEZONE
TZID:Europe/Paris
X-LIC-LOCATION:Europe/Paris
BEGIN:STANDARD
DTSTART:20241027T020000
TZOFFSETFROM:+0200
TZOFFSETTO:+0100
TZNAME:CET
END:STANDARD
END:VTIMEZONE
END:VCALENDAR