BEGIN:VCALENDAR
VERSION:2.0
PRODID:-//wp-events-plugin.com//7.2.3.1//EN
TZID:Europe/Paris
X-WR-TIMEZONE:Europe/Paris
BEGIN:VEVENT
UID:4453@agenda24.fr
DTSTART;TZID=Europe/Paris:20250120T150000
DTEND;TZID=Europe/Paris:20250120T163000
DTSTAMP:20250119T111449Z
URL:https://agenda24.fr/evenements/passeur-desseurs-de-patrimoine-de-place
 -en-place/
SUMMARY:Passeur desseurs de patrimoine - De place en place
DESCRIPTION:
CATEGORIES:Tourisme / Patrimoine
LOCATION:Office de Tourisme Destination Périgueux\, 9 Place du Coderc\, P
 érigueux\, France
GEO:45.18465;0.72111
X-APPLE-STRUCTURED-LOCATION;VALUE=URI;X-ADDRESS=9 Place du Coderc\, Périgu
 eux\, France;X-APPLE-RADIUS=100;X-TITLE=Office de Tourisme Destination Pé
 rigueux:geo:45.18465,0.72111
END:VEVENT
BEGIN:VTIMEZONE
TZID:Europe/Paris
X-LIC-LOCATION:Europe/Paris
BEGIN:STANDARD
DTSTART:20241027T020000
TZOFFSETFROM:+0200
TZOFFSETTO:+0100
TZNAME:CET
END:STANDARD
END:VTIMEZONE
END:VCALENDAR