BEGIN:VCALENDAR
VERSION:2.0
PRODID:-//wp-events-plugin.com//7.2.3.1//EN
TZID:Europe/Paris
X-WR-TIMEZONE:Europe/Paris
BEGIN:VEVENT
UID:9682@agenda24.fr
DTSTART;TZID=Europe/Paris:20251128T200000
DTEND;TZID=Europe/Paris:20251128T212000
DTSTAMP:20251101T090445Z
URL:https://agenda24.fr/evenements/odyssee-une-maison-de-poupee/
SUMMARY:Odyssée – Une maison de poupéé
DESCRIPTION:La metteuse en scène Yngvild Aspeli adapte le chef-d’œuvre 
 de son\ncompatriote Henrik Ibsen dans une version marionnettique virtuose 
 qui rend\nà la pièce sa jeunesse et en fait un conte fantastique sur nos
  illusions.\nNora revisite son passé\, accompagnée par des marionnettes 
 à taille humaine\nqu’elle manipule avec dextérité et malice pour revi
 vre sa propre histoire.\nLes pantins deviennent les métaphores idéales d
 ’une société de faux-semblants\,\ntandis que peu à peu\, le salon de 
 Nora se peuple de créatures étranges\net effrayantes. Stylisée avec une
  élégance rare\, cette histoire de manipulation\net de trahison crée un
  trouble puissant et un moment de théâtre vertigineux.
CATEGORIES:Spectacle
LOCATION:Théâtre l'Odyssée\, Esplanade Robert Badinter\, Périgueux\, Fr
 ance
GEO:45.18454;0.71681
X-APPLE-STRUCTURED-LOCATION;VALUE=URI;X-ADDRESS=Esplanade Robert Badinter\,
  Périgueux\, France;X-APPLE-RADIUS=100;X-TITLE=Théâtre l'Odyssée:geo:4
 5.18454,0.71681
END:VEVENT
BEGIN:VTIMEZONE
TZID:Europe/Paris
X-LIC-LOCATION:Europe/Paris
BEGIN:STANDARD
DTSTART:20251026T020000
TZOFFSETFROM:+0200
TZOFFSETTO:+0100
TZNAME:CET
END:STANDARD
END:VTIMEZONE
END:VCALENDAR