BEGIN:VCALENDAR
VERSION:2.0
PRODID:-//wp-events-plugin.com//7.2.3.1//EN
TZID:Europe/Paris
X-WR-TIMEZONE:Europe/Paris
BEGIN:VEVENT
UID:11896@agenda24.fr
DTSTART;TZID=Europe/Paris:20260319T200000
DTEND;TZID=Europe/Paris:20260319T205000
DTSTAMP:20260301T135819Z
URL:https://agenda24.fr/evenements/odyssee-transfiguration/
SUMMARY:Odyssée - TRANSFIGURATION
DESCRIPTION:Depuis plus de 20 ans\, Olivier de Sagazan développe une prati
 que hybride\nqui intègre la peinture\, la photographie\, la sculpture et 
 la performance pour\ncréer une œuvre existentialiste. Son travail tente 
 de faire parler le corps\, de faire\nsurgir le côté précieux de la vie 
 et s’appuie sur des fondements philosophiques\,\nlittéraires et artisti
 ques articulés par Artaud\, Beckett et Bacon.\nTransfiguration est l’hi
 stoire d’un échec. L’incapacité d’un peintre-sculpteur\nà donner 
 vie à son oeuvre. Dans un geste désespéré\, le peintre va sous\nla pei
 nture d’argile pour devenir une sculpture vivante. Son corps devient\nun
 e toile et le peintre un danseur.\nDans cette performance\, l’artiste se
  construit par couches d’argile successives\nun autre visage\, pour tran
 sformer\, défigurer et démonter sa propre figure.\n
CATEGORIES:Spectacle
LOCATION:Théâtre le Palace\, 15 rue Bodin\, Périgueux\, France
GEO:45.1867858;0.71735717
X-APPLE-STRUCTURED-LOCATION;VALUE=URI;X-ADDRESS=15 rue Bodin\, Périgueux\,
  France;X-APPLE-RADIUS=100;X-TITLE=Théâtre le Palace:geo:45.1867858,0.71
 735717
END:VEVENT
BEGIN:VTIMEZONE
TZID:Europe/Paris
X-LIC-LOCATION:Europe/Paris
BEGIN:STANDARD
DTSTART:20251026T020000
TZOFFSETFROM:+0200
TZOFFSETTO:+0100
TZNAME:CET
END:STANDARD
END:VTIMEZONE
END:VCALENDAR