BEGIN:VCALENDAR
VERSION:2.0
PRODID:-//wp-events-plugin.com//7.2.3.1//EN
TZID:Europe/Paris
X-WR-TIMEZONE:Europe/Paris
BEGIN:VEVENT
UID:11903@agenda24.fr
DTSTART;TZID=Europe/Paris:20260331T200000
DTEND;TZID=Europe/Paris:20260331T220000
DTSTAMP:20260301T135819Z
URL:https://agenda24.fr/evenements/odyssee-rapt/
SUMMARY:Odyssée - RAPT
DESCRIPTION:Quand Louis découvre que quelqu’un publie sur Internet en so
 n nom\, il\ncommence à réaliser que ce n’est pas la seule partie de so
 n identité qui lui a été\nvolée. Mais qui lui a fait ça ? Et pourquoi
  ? Thriller captivant doté d’une intrigue\nconstruite avec maestria\, c
 e texte sulfureux aborde des sujets contemporains\nbrûlants d’actualit
 é\, qu’il s’agisse de la place des réseaux sociaux dans nos vies\,\n
 de notre rapport à la démocratie ou du changement climatique.\nL’écri
 ture réaliste\, précise et ciselée\, au rythme haletant et à l’humou
 r noir\nde Lucie Boisdamour mêle subtilement le théâtre\, la fiction et
  des éléments\nréels. Comme dans la vraie vie\, il est difficile de fai
 re le tri.
CATEGORIES:Spectacle
LOCATION:Théâtre l'Odyssée\, Esplanade Robert Badinter\, Périgueux\, Fr
 ance
GEO:45.18454;0.71681
X-APPLE-STRUCTURED-LOCATION;VALUE=URI;X-ADDRESS=Esplanade Robert Badinter\,
  Périgueux\, France;X-APPLE-RADIUS=100;X-TITLE=Théâtre l'Odyssée:geo:4
 5.18454,0.71681
END:VEVENT
BEGIN:VTIMEZONE
TZID:Europe/Paris
X-LIC-LOCATION:Europe/Paris
BEGIN:DAYLIGHT
DTSTART:20260329T030000
TZOFFSETFROM:+0100
TZOFFSETTO:+0200
TZNAME:CEST
END:DAYLIGHT
END:VTIMEZONE
END:VCALENDAR