BEGIN:VCALENDAR
VERSION:2.0
PRODID:-//wp-events-plugin.com//7.2.3.1//EN
TZID:Europe/Paris
X-WR-TIMEZONE:Europe/Paris
BEGIN:VEVENT
UID:9696@agenda24.fr
DTSTART;TZID=Europe/Paris:20251203T200000
DTEND;TZID=Europe/Paris:20251203T214500
DTSTAMP:20251101T090447Z
URL:https://agenda24.fr/evenements/odyssee-piece-en-plastique/
SUMMARY:Odyssée – Pièce en plastique
DESCRIPTION:Ulrike et Michael embauchent Jessica pour s’occuper de leur m
 aison et\nde Vincent\, leur enfant. Jessica fait le ménage\, elle fait à
  manger\, elle s’occupe\nde Vincent. Elle fait ce qu’Ulrike et Michael
  n’ont pas le temps de faire. Peu\nà peu\, elle devient indispensable. 
 Ulrike en fait son amie\, Michael sa confidente\,\net Vincent noue avec el
 le des liens fraternels. Même Serge Haulupa\, le patron\nd’Ulrike - gra
 nd artiste plasticien – en fait sa muse. Jusqu’où cette famille\nforc
 era Jessica à mettre à leur disposition son corps et sa personne\ntoute 
 entière ?\nPièce en plastique est une comédie grinçante qui déploie u
 ne critique sociale\nacerbe sur les rapports humains\, la place de l’art
 iste\, et quiconque faisant\nde son corps sa force de travail.
CATEGORIES:Spectacle
LOCATION:Théâtre le Palace\, 15 rue Bodin\, Périgueux\, France
GEO:45.1867981;0.71733571
X-APPLE-STRUCTURED-LOCATION;VALUE=URI;X-ADDRESS=15 rue Bodin\, Périgueux\,
  France;X-APPLE-RADIUS=100;X-TITLE=Théâtre le Palace:geo:45.1867981,0.71
 733571
END:VEVENT
BEGIN:VTIMEZONE
TZID:Europe/Paris
X-LIC-LOCATION:Europe/Paris
BEGIN:STANDARD
DTSTART:20251026T020000
TZOFFSETFROM:+0200
TZOFFSETTO:+0100
TZNAME:CET
END:STANDARD
END:VTIMEZONE
END:VCALENDAR