BEGIN:VCALENDAR
VERSION:2.0
PRODID:-//wp-events-plugin.com//7.2.3.1//EN
TZID:Europe/Paris
X-WR-TIMEZONE:Europe/Paris
BEGIN:VEVENT
UID:4477@agenda24.fr
DTSTART;TZID=Europe/Paris:20250122T170000
DTEND;TZID=Europe/Paris:20250122T170000
DTSTAMP:20241214T154051Z
URL:https://agenda24.fr/evenements/odyssee-p-i-e-d-format-de-poche/
SUMMARY:Odyssée - P.I.E.D. #Format de poche
DESCRIPTION:
CATEGORIES:Spectacle
LOCATION:Théâtre le Palace\, 15 rue Bodin\, Périgueux\, France
GEO:45.18701;0.71707
X-APPLE-STRUCTURED-LOCATION;VALUE=URI;X-ADDRESS=15 rue Bodin\, Périgueux\,
  France;X-APPLE-RADIUS=100;X-TITLE=Théâtre le Palace:geo:45.18701,0.7170
 7
END:VEVENT
BEGIN:VTIMEZONE
TZID:Europe/Paris
X-LIC-LOCATION:Europe/Paris
BEGIN:STANDARD
DTSTART:20241027T020000
TZOFFSETFROM:+0200
TZOFFSETTO:+0100
TZNAME:CET
END:STANDARD
END:VTIMEZONE
END:VCALENDAR