BEGIN:VCALENDAR
VERSION:2.0
PRODID:-//wp-events-plugin.com//7.2.3.1//EN
TZID:Europe/Paris
X-WR-TIMEZONE:Europe/Paris
BEGIN:VEVENT
UID:9681@agenda24.fr
DTSTART;TZID=Europe/Paris:20251209T200000
DTEND;TZID=Europe/Paris:20251209T214000
DTSTAMP:20251101T090445Z
URL:https://agenda24.fr/evenements/odyssee-monte-cristo/
SUMMARY:Odyssée – Monte-Cristo
DESCRIPTION:Comment condenser le roman de 1600 pages d’Alexandre Dumas sa
 ns\nen perdre une miette ? Pari réussi pour Nicolas Bonneau et Fanny Ché
 riaux qui\nrevisitent ce monument du répertoire français par le théâtr
 e\, la musique et la\nvidéo. Edmond Dantès\, jeune marin de dix-neuf ans
  débarque à Marseille pour\ns’y fiancer. Trahi par des « amis » jalo
 ux\, il est dénoncé comme conspirateur\net enfermé à tort dans le châ
 teau d’If à Marseille. Quatorze ans plus tard\,\nil réussit à s’év
 ader et entreprend de régler ses comptes... L’incroyable talent\nde con
 teur de Nicolas Bonneau\, la musique imaginée et jouée en live par la\nc
 omédienne-musicienne Fanny Chériaux et le multi-instrumentiste Mathias\n
 Castagné\, les effets vidéo du projet créent un récit rock endiablé\,
  qui nous\nrestitue fidèlement la saga de Dumas. Succomberez-vous avec le
  héros\naux jouissances sans limite de la vengeance ?
CATEGORIES:Spectacle
LOCATION:Théâtre l'Odyssée\, Esplanade Robert Badinter\, Périgueux\, Fr
 ance
GEO:45.18454;0.71681
X-APPLE-STRUCTURED-LOCATION;VALUE=URI;X-ADDRESS=Esplanade Robert Badinter\,
  Périgueux\, France;X-APPLE-RADIUS=100;X-TITLE=Théâtre l'Odyssée:geo:4
 5.18454,0.71681
END:VEVENT
BEGIN:VTIMEZONE
TZID:Europe/Paris
X-LIC-LOCATION:Europe/Paris
BEGIN:STANDARD
DTSTART:20251026T020000
TZOFFSETFROM:+0200
TZOFFSETTO:+0100
TZNAME:CET
END:STANDARD
END:VTIMEZONE
END:VCALENDAR