BEGIN:VCALENDAR
VERSION:2.0
PRODID:-//wp-events-plugin.com//7.2.3.1//EN
TZID:Europe/Paris
X-WR-TIMEZONE:Europe/Paris
BEGIN:VEVENT
UID:11895@agenda24.fr
DTSTART;TZID=Europe/Paris:20260317T200000
DTEND;TZID=Europe/Paris:20260317T210000
DTSTAMP:20260301T135819Z
URL:https://agenda24.fr/evenements/odyssee-maldonne/
SUMMARY:Odyssée - MALDONNE
DESCRIPTION:Reconnue comme l’enfant prodige de la scène chorégraphique 
 contemporaine\,\nLeïla Ka signe ici sa première forme longue qu'elle con
 sacre à un plateau\nentièrement féminin pour un ballet hypnotique.\nPor
 tée par l’envie de rebattre les cartes\, elle transpose sur scène des 
 émotions\net moments de partage vécus avec ses sœurs\, ses amies\, des 
 femmes\ncroisées au fil des ans. Sororité\, révolte\, pleurs\, euphorie
  et joie traversent\nune écriture chorégraphique percutante.\nChoisies d
 ans d’infinies nuances de formes\, motifs\, couleurs et styles\,\nles ro
 bes sont au cœur d’une création qui s’appuie tantôt sur le rythme\n
 des souffles\, tantôt sur les musiques les plus diverses\, de Vivaldi à\
 nLara Fabian. Entre danse contemporaine et théâtralité\, se dégage de 
 cette\ndramaturgie une énergie folle : les danseuses nous embarquent avec
  elles\ndans une ode salvatrice !
CATEGORIES:Spectacle
LOCATION:Théâtre l'Odyssée\, Esplanade Robert Badinter\, Périgueux\, Fr
 ance
GEO:45.18454;0.71681
X-APPLE-STRUCTURED-LOCATION;VALUE=URI;X-ADDRESS=Esplanade Robert Badinter\,
  Périgueux\, France;X-APPLE-RADIUS=100;X-TITLE=Théâtre l'Odyssée:geo:4
 5.18454,0.71681
END:VEVENT
BEGIN:VTIMEZONE
TZID:Europe/Paris
X-LIC-LOCATION:Europe/Paris
BEGIN:STANDARD
DTSTART:20251026T020000
TZOFFSETFROM:+0200
TZOFFSETTO:+0100
TZNAME:CET
END:STANDARD
END:VTIMEZONE
END:VCALENDAR