BEGIN:VCALENDAR
VERSION:2.0
PRODID:-//wp-events-plugin.com//7.2.3.1//EN
TZID:Europe/Paris
X-WR-TIMEZONE:Europe/Paris
BEGIN:VEVENT
UID:11901@agenda24.fr
DTSTART;TZID=Europe/Paris:20260326T200000
DTEND;TZID=Europe/Paris:20260326T220000
DTSTAMP:20260301T135819Z
URL:https://agenda24.fr/evenements/odyssee-les-femmes-savantes/
SUMMARY:Odyssée - LES  FEMMES SAVANTES
DESCRIPTION:Une famille se déchire autour d’un projet de mariage. D’un
  côté la mère\nPhilaminte\, sa belle-sœur Bélise et sa fille Armande.
  Toutes les trois éprises\nd’art et de science souhaitent voir Henriett
 e\, la cadette de la famille\, s’unir\nau poète Trissotin. De l’autre
 \, le père Chrysale et son frère Ariste\, bons\nbourgeois soucieux de le
 urs intérêts\, veulent qu’Henriette épouse Clitandre\,\nun jeune aris
 tocrate bien introduit à la Cour. Derrière cette comédie du\nmariage\, 
 ce sont ainsi deux conceptions de la vie\, a priori irréconciliables\,\nq
 ui se révèlent et s’affrontent. On a longtemps pensé que dans Les Fem
 mes\nsavantes\, Molière se moquait méchamment du désir d’émancipatio
 n féminin\,\navec une brutalité très misogyne. 
CATEGORIES:Spectacle
LOCATION:Théâtre l'Odyssée\, Esplanade Robert Badinter\, Périgueux\, Fr
 ance
GEO:45.18454;0.71681
X-APPLE-STRUCTURED-LOCATION;VALUE=URI;X-ADDRESS=Esplanade Robert Badinter\,
  Périgueux\, France;X-APPLE-RADIUS=100;X-TITLE=Théâtre l'Odyssée:geo:4
 5.18454,0.71681
END:VEVENT
BEGIN:VTIMEZONE
TZID:Europe/Paris
X-LIC-LOCATION:Europe/Paris
BEGIN:STANDARD
DTSTART:20251026T020000
TZOFFSETFROM:+0200
TZOFFSETTO:+0100
TZNAME:CET
END:STANDARD
END:VTIMEZONE
END:VCALENDAR