BEGIN:VCALENDAR
VERSION:2.0
PRODID:-//wp-events-plugin.com//7.2.3.1//EN
TZID:Europe/Paris
X-WR-TIMEZONE:Europe/Paris
BEGIN:VEVENT
UID:9695@agenda24.fr
DTSTART;TZID=Europe/Paris:20251107T200000
DTEND;TZID=Europe/Paris:20251107T211500
DTSTAMP:20251101T090447Z
URL:https://agenda24.fr/evenements/odyssee-la-force-de-la-farce/
SUMMARY:Odyssée – La force de la farce
DESCRIPTION:On est en 1977. La Terre est au bord du gouffre. L’humanité\
 , pas loin de\nl’extinction. Alors que sa carrière est au point mort et
  que sa vie est un sketch\,\nPatrice\, un humoriste raté reconverti dans 
 les farces et attrapes\, a une idée\nde génie. S’inspirant de l’astr
 onome Carl Sagan\, dont la NASA vient d’expédier\ndans l’espace le Vo
 yager Golden Record - un condensé d’humanité destiné\naux vies extra-
 terrestres - il imagine un dispositif similaire : un disque\nqui compilera
 it le meilleur des histoires potaches\, gags et autres galéjades...\nUne 
 bible de l’humour. Il en est persuadé : c’est le seul moyen de faire 
 perdurer\nnotre civilisation à travers la galaxie. En compagnie de « Mic
 h-L »\, l’une des\npremières intelligences artificielles\, entouré de
  perruques\, de synthétiseurs\net de nombreux accessoires\, il écrit\, s
 ’enregistre\, travaille sans relâche.\n
CATEGORIES:Spectacle
LOCATION:Théâtre le Palace\, 15 rue Bodin\, Périgueux\, France
GEO:45.1867981;0.71733571
X-APPLE-STRUCTURED-LOCATION;VALUE=URI;X-ADDRESS=15 rue Bodin\, Périgueux\,
  France;X-APPLE-RADIUS=100;X-TITLE=Théâtre le Palace:geo:45.1867981,0.71
 733571
END:VEVENT
BEGIN:VTIMEZONE
TZID:Europe/Paris
X-LIC-LOCATION:Europe/Paris
BEGIN:STANDARD
DTSTART:20251026T020000
TZOFFSETFROM:+0200
TZOFFSETTO:+0100
TZNAME:CET
END:STANDARD
END:VTIMEZONE
END:VCALENDAR