BEGIN:VCALENDAR
VERSION:2.0
PRODID:-//wp-events-plugin.com//7.2.3.1//EN
TZID:Europe/Paris
X-WR-TIMEZONE:Europe/Paris
BEGIN:VEVENT
UID:11900@agenda24.fr
DTSTART;TZID=Europe/Paris:20260325T170000
DTEND;TZID=Europe/Paris:20260325T173000
DTSTAMP:20260301T135819Z
URL:https://agenda24.fr/evenements/odyssee-imagori/
SUMMARY:Odyssée - IMAGORI
DESCRIPTION:ImagOri\, c’est un conte musical et dansé dans un univers de
  papier plié.\nNé de télescopages variés entre une chanteuse soprano\,
  les mouvements\nd’une danseuse et d’un danseur\, un peuple de créatu
 res imaginaires et une\nscénographie de lumière\, cette pièce est la tr
 aversée d’un rêve\, d’un ailleurs\noù se côtoient émotions et bea
 uté des images.\nParsemée de personnages en origami et bercée par une l
 angue inventée\nchantée par Alice Duport-Percier\, imagOri nous convie 
 à des va-et-vient\nincessants entre imaginaire et réel\, incarnés par d
 eux interprètes aériens\net subtils\, mêlant langage contemporain et hi
 p-hop.\n
CATEGORIES:Spectacle
LOCATION:Théâtre le Palace\, 15 rue Bodin\, Périgueux\, France
GEO:45.1867858;0.71735717
X-APPLE-STRUCTURED-LOCATION;VALUE=URI;X-ADDRESS=15 rue Bodin\, Périgueux\,
  France;X-APPLE-RADIUS=100;X-TITLE=Théâtre le Palace:geo:45.1867858,0.71
 735717
END:VEVENT
BEGIN:VTIMEZONE
TZID:Europe/Paris
X-LIC-LOCATION:Europe/Paris
BEGIN:STANDARD
DTSTART:20251026T020000
TZOFFSETFROM:+0200
TZOFFSETTO:+0100
TZNAME:CET
END:STANDARD
END:VTIMEZONE
END:VCALENDAR