BEGIN:VCALENDAR
VERSION:2.0
PRODID:-//wp-events-plugin.com//7.2.3.1//EN
TZID:Europe/Paris
X-WR-TIMEZONE:Europe/Paris
BEGIN:VEVENT
UID:3980@agenda24.fr
DTSTART;TZID=Europe/Paris:20241106T200000
DTEND;TZID=Europe/Paris:20241106T200000
DTSTAMP:20241030T091245Z
URL:https://agenda24.fr/evenements/odyssee-derapage/
SUMMARY:Odyssée - Dérapage
DESCRIPTION:
CATEGORIES:Spectacle
LOCATION:Théâtre de l'Odyssée\, Esplanade Robert Badinter\, Périgueux\,
  France
GEO:45.18456;0.71671
X-APPLE-STRUCTURED-LOCATION;VALUE=URI;X-ADDRESS=Esplanade Robert Badinter\,
  Périgueux\, France;X-APPLE-RADIUS=100;X-TITLE=Théâtre de l'Odyssée:ge
 o:45.18456,0.71671
END:VEVENT
BEGIN:VTIMEZONE
TZID:Europe/Paris
X-LIC-LOCATION:Europe/Paris
BEGIN:STANDARD
DTSTART:20241027T020000
TZOFFSETFROM:+0200
TZOFFSETTO:+0100
TZNAME:CET
END:STANDARD
END:VTIMEZONE
END:VCALENDAR