BEGIN:VCALENDAR
VERSION:2.0
PRODID:-//wp-events-plugin.com//7.2.3.1//EN
TZID:Europe/Paris
X-WR-TIMEZONE:Europe/Paris
BEGIN:VEVENT
UID:9679@agenda24.fr
DTSTART;TZID=Europe/Paris:20251119T200000
DTEND;TZID=Europe/Paris:20251119T210000
DTSTAMP:20251101T090445Z
URL:https://agenda24.fr/evenements/odyssee-corps-a-cordes/
SUMMARY:Odyssée - CORPS À CORDES
DESCRIPTION:La directrice artistique de l’ensemble il Convito\, Maude Gra
 tton\, réunit sur\nscène trois circassiens et trois musiciens pour racon
 ter l’histoire de leur\nrencontre\, portés par le souhait d’explorer 
 avec une infinie liberté de nouveaux\nespaces imaginaires.\nDifférents t
 ableaux\, poétiques\, drôles\, absurdes ou oniriques\, se dévoilent\nau
  fil d’un spectacle mettant en lumière la beauté des gestes et la magi
 e\ndes instruments anciens\, sur des œuvres de Bach\, Scarlatti\, Gabriel
 i\,\nDowland\, Rebel...\nDans un fragile équilibre entre la matière brut
 e et l’abstraction\, la virtuosité\net l’émotion\, ici les instrumen
 ts prennent vie\, les objets s’animent\, et les corps\nbasculent entre l
 e rêve et la réalité. Fil\, cordes\, toiles et archets s’enchevêtren
 t\ndans un monde sonore et suspendu.
CATEGORIES:Spectacle
LOCATION:Théâtre l'Odyssée\, Esplanade Robert Badinter\, Périgueux\, Fr
 ance
GEO:45.18454;0.71681
X-APPLE-STRUCTURED-LOCATION;VALUE=URI;X-ADDRESS=Esplanade Robert Badinter\,
  Périgueux\, France;X-APPLE-RADIUS=100;X-TITLE=Théâtre l'Odyssée:geo:4
 5.18454,0.71681
END:VEVENT
BEGIN:VTIMEZONE
TZID:Europe/Paris
X-LIC-LOCATION:Europe/Paris
BEGIN:STANDARD
DTSTART:20251026T020000
TZOFFSETFROM:+0200
TZOFFSETTO:+0100
TZNAME:CET
END:STANDARD
END:VTIMEZONE
END:VCALENDAR