BEGIN:VCALENDAR
VERSION:2.0
PRODID:-//wp-events-plugin.com//7.2.3.1//EN
TZID:Europe/Paris
X-WR-TIMEZONE:Europe/Paris
BEGIN:VEVENT
UID:9680@agenda24.fr
DTSTART;TZID=Europe/Paris:20251202T200000
DTEND;TZID=Europe/Paris:20251202T212000
DTSTAMP:20251101T090445Z
URL:https://agenda24.fr/evenements/odyssee-about-love-and-death/
SUMMARY:Odyssée – About Love and Death
DESCRIPTION:Chorégraphe hors-pair\, dramaturge de Pina Bausch\, l’Allema
 nd Raimund Hoghe\n(1949-2021) a marqué d’une empreinte profonde et sing
 ulière le monde de la\ndanse. Avec About Love and Death\, Emmanuel Eggerm
 ont ravive quelques\nfragments des pièces du mentor avec lequel il collab
 ora durant quinze ans.\nL’amour et la mort y jouent un rôle prépondér
 ant. Ce solo élégiaque\, voué à un\nmaître cher\, est un questionneme
 nt sur la filiation. Il ne s’agit pas ici de reproduire\,\nde dupliquer.
  En revenant à l’œuvre de Hoghe\, Eggermont la réinvestit\, l’empli
 t\nd’un souffle nouveau. Digresse. Trace sa voie. Dans le souvenir de la
  création\npassée\, une création neuve prend forme. En même temps que 
 le maître revit\,\nle disciple s’accomplit. L’héritage se métamorph
 ose\, bourgeonne\, fleurit.
CATEGORIES:Spectacle
LOCATION:Théâtre l'Odyssée\, Esplanade Robert Badinter\, Périgueux\, Fr
 ance
GEO:45.18454;0.71681
X-APPLE-STRUCTURED-LOCATION;VALUE=URI;X-ADDRESS=Esplanade Robert Badinter\,
  Périgueux\, France;X-APPLE-RADIUS=100;X-TITLE=Théâtre l'Odyssée:geo:4
 5.18454,0.71681
END:VEVENT
BEGIN:VTIMEZONE
TZID:Europe/Paris
X-LIC-LOCATION:Europe/Paris
BEGIN:STANDARD
DTSTART:20251026T020000
TZOFFSETFROM:+0200
TZOFFSETTO:+0100
TZNAME:CET
END:STANDARD
END:VTIMEZONE
END:VCALENDAR