BEGIN:VCALENDAR
VERSION:2.0
PRODID:-//wp-events-plugin.com//7.2.3.1//EN
TZID:Europe/Paris
X-WR-TIMEZONE:Europe/Paris
BEGIN:VEVENT
UID:11841@agenda24.fr
DTSTART;TZID=Europe/Paris:20260327T180000
DTEND;TZID=Europe/Paris:20260327T180000
DTSTAMP:20260301T135157Z
URL:https://agenda24.fr/evenements/nuit-de-la-chouette-3/
SUMMARY:Nuit de la chouette
DESCRIPTION:La nuit de la chouette \nPrésentation en salle des chouettes e
 t hiboux par la LPO à partir de 18h – 19h : petite restauration. Balade
  nocturne pour écouter les chouettes – gratuit sur réservation – 05 
 53 81 99 28
CATEGORIES:Tourisme / Patrimoine
LOCATION:Ferme du Parcot\, Chemin Abel Guionneau\, Echourgnac\, France
GEO:45.134073;0.26631221
X-APPLE-STRUCTURED-LOCATION;VALUE=URI;X-ADDRESS=Chemin Abel Guionneau\, Ech
 ourgnac\, France;X-APPLE-RADIUS=100;X-TITLE=Ferme du Parcot:geo:45.134073,
 0.26631221
END:VEVENT
BEGIN:VTIMEZONE
TZID:Europe/Paris
X-LIC-LOCATION:Europe/Paris
BEGIN:STANDARD
DTSTART:20251026T020000
TZOFFSETFROM:+0200
TZOFFSETTO:+0100
TZNAME:CET
END:STANDARD
END:VTIMEZONE
END:VCALENDAR