BEGIN:VCALENDAR
VERSION:2.0
PRODID:-//wp-events-plugin.com//7.2.3.1//EN
TZID:Europe/Paris
X-WR-TIMEZONE:Europe/Paris
BEGIN:VEVENT
UID:10344@agenda24.fr
DTSTART;TZID=Europe/Paris:20251213T140000
DTEND;TZID=Europe/Paris:20251214T180000
DTSTAMP:20251210T175616Z
URL:https://agenda24.fr/evenements/noel-au-chateau-de-fayolle-parcours-fam
 ilial-immersif/
SUMMARY:Noël au Château de Fayolle : parcours familial immersif
DESCRIPTION:Le Merveilleux Noël du Château de Fayolle\, de 14h à 18h sur
  réservation : un parcours familial immersif et enchanté ! \nDécouvrez 
 notre crèche dans la jolie petite chapelle consacrée de Fayolle\, instal
 lez-vous dans notre magnifique théâtre pour entendre un merveilleux cont
 e\, créez votre propre décoration de Noël et rapportez là à la maison
 \, déposez votre vœu dans l’arbre à souhaits\, et enfin au pied d’u
 n majestueux sapin\, laissez-vous emporter par un concert des plus beaux c
 hants de Noël…dont certains seront même proposés en plusieurs langues
  !\nEt qui sait … peut-être aurez-vous la chance de rencontrer le Père
  Noël et ses lutins les plus farfelus...\n\nRetrouvez également les visi
 tes habituelles du Château de Fayolle.\n
CATEGORIES:Concert,Spectacle
LOCATION:Route du Château\, Route du Château\, Tocane-Saint-Apre\, France
GEO:45.2275351;0.50119439
X-APPLE-STRUCTURED-LOCATION;VALUE=URI;X-ADDRESS=Route du Château\, Tocane-
 Saint-Apre\, France;X-APPLE-RADIUS=100;X-TITLE=Route du Château:geo:45.22
 75351,0.50119439
END:VEVENT
BEGIN:VTIMEZONE
TZID:Europe/Paris
X-LIC-LOCATION:Europe/Paris
BEGIN:STANDARD
DTSTART:20251026T020000
TZOFFSETFROM:+0200
TZOFFSETTO:+0100
TZNAME:CET
END:STANDARD
END:VTIMEZONE
END:VCALENDAR