BEGIN:VCALENDAR
VERSION:2.0
PRODID:-//wp-events-plugin.com//7.2.3.1//EN
TZID:Europe/Paris
X-WR-TIMEZONE:Europe/Paris
BEGIN:VEVENT
UID:9711@agenda24.fr
DTSTART;TZID=Europe/Paris:20251206T143000
DTEND;TZID=Europe/Paris:20251206T183000
DTSTAMP:20251101T090448Z
URL:https://agenda24.fr/evenements/noel-a-lappart-galerie-lappart-2/
SUMMARY:Noël à l'App'art - Galerie l'App'Art
DESCRIPTION:Exposition du vendredi 5 décembre au dimanche 7 décembre 2025
  inclus\n\ntous les jours (sauf dimanches) 14h30-18h30\n\nVernissage samed
 i 6 décembre à 18h30\n\nAvec le soutien du Conseil départemental de la 
 Dordogne et de la Mairie de Périgueux
CATEGORIES:Spectacle
LOCATION:Galerie l'App'Art\, 10 Rue Arago\, Périgueux\, France
GEO:45.18538;0.71456
X-APPLE-STRUCTURED-LOCATION;VALUE=URI;X-ADDRESS=10 Rue Arago\, Périgueux\,
  France;X-APPLE-RADIUS=100;X-TITLE=Galerie l'App'Art:geo:45.18538,0.71456
END:VEVENT
BEGIN:VTIMEZONE
TZID:Europe/Paris
X-LIC-LOCATION:Europe/Paris
BEGIN:STANDARD
DTSTART:20251026T020000
TZOFFSETFROM:+0200
TZOFFSETTO:+0100
TZNAME:CET
END:STANDARD
END:VTIMEZONE
END:VCALENDAR