BEGIN:VCALENDAR
VERSION:2.0
PRODID:-//wp-events-plugin.com//7.2.3.1//EN
TZID:Europe/Paris
X-WR-TIMEZONE:Europe/Paris
BEGIN:VEVENT
UID:3874@agenda24.fr
DTSTART;TZID=Europe/Paris:20241206T143000
DTEND;TZID=Europe/Paris:20241206T190000
DTSTAMP:20241030T085627Z
URL:https://agenda24.fr/evenements/noel-a-lappart-11eme-edition/
SUMMARY:Noël à l’Appart – 11ème édition
DESCRIPTION:
CATEGORIES:Evènement à thème
LOCATION:Galerie L'App'Art\, 10 Rue Arago\, Périgueux\, France
GEO:45.18538;0.71456
X-APPLE-STRUCTURED-LOCATION;VALUE=URI;X-ADDRESS=10 Rue Arago\, Périgueux\,
  France;X-APPLE-RADIUS=100;X-TITLE=Galerie L'App'Art:geo:45.18538,0.71456
END:VEVENT
BEGIN:VTIMEZONE
TZID:Europe/Paris
X-LIC-LOCATION:Europe/Paris
BEGIN:STANDARD
DTSTART:20241027T020000
TZOFFSETFROM:+0200
TZOFFSETTO:+0100
TZNAME:CET
END:STANDARD
END:VTIMEZONE
END:VCALENDAR