BEGIN:VCALENDAR
VERSION:2.0
PRODID:-//wp-events-plugin.com//7.2.3.1//EN
TZID:Europe/Paris
X-WR-TIMEZONE:Europe/Paris
BEGIN:VEVENT
UID:5754@agenda24.fr
DTSTART;TZID=Europe/Paris:20250329T183000
DTEND;TZID=Europe/Paris:20250329T203000
DTSTAMP:20250326T135034Z
URL:https://agenda24.fr/evenements/musique-spontanee/
SUMMARY:Musique spontanée
DESCRIPTION:Un temps musical intuitif et spontané ! \nInutile de connaitre
  la musique\, amenez vos instruments\, guitares\, flûtes\, hochets\, tamb
 ours et autres \, votre voix.
CATEGORIES:Concert
LOCATION:Lieu-dit Gué des Billes\, Lieu-dit Gué des Billes\, Saint-Priest
 -Les-Fougères\, France
GEO:45.542992;1.023411
X-APPLE-STRUCTURED-LOCATION;VALUE=URI;X-ADDRESS=Lieu-dit Gué des Billes\, 
 Saint-Priest-Les-Fougères\, France;X-APPLE-RADIUS=100;X-TITLE=Lieu-dit Gu
 é des Billes:geo:45.542992,1.023411
END:VEVENT
BEGIN:VTIMEZONE
TZID:Europe/Paris
X-LIC-LOCATION:Europe/Paris
BEGIN:STANDARD
DTSTART:20241027T020000
TZOFFSETFROM:+0200
TZOFFSETTO:+0100
TZNAME:CET
END:STANDARD
END:VTIMEZONE
END:VCALENDAR