BEGIN:VCALENDAR
VERSION:2.0
PRODID:-//wp-events-plugin.com//7.2.3.1//EN
TZID:Europe/Paris
X-WR-TIMEZONE:Europe/Paris
BEGIN:VEVENT
UID:5890@agenda24.fr
DTSTART;TZID=Europe/Paris:20250427T110000
DTEND;TZID=Europe/Paris:20250427T130000
DTSTAMP:20250326T140705Z
URL:https://agenda24.fr/evenements/murder-party-exclusive-derniere-confess
 ion-a-maraval/
SUMMARY:Murder Party Exclusive "Dernière confession à Maraval"
DESCRIPTION:Grande Murder Party exclusive à venir résoudre pour découvri
 r l'histoire fascinante du château de Maraval.\nTrophées\, prix et cadea
 ux à remporter pour les meilleures équipes.\nAmbiance années 20\, acteu
 rs costumés\, visites du château.\n\nVente\, dédicace et conférence pa
 r l'illustrateur des bandes dessinées "Le secret des bois de Lascaux". \n
 \nRéservation obligatoire par téléphone\, e-mail ou sur place.\n\nCette
  animation est prévue en extérieur sans possibilité de repli à l'inté
 rieur en cas de mauvais temps (annulation possible).
CATEGORIES:Jeux
LOCATION:Château de Maraval\, 357 Rte de Gourdon\, Cenac-et-Saint-Julien\,
  France
GEO:44.7724832;1.22234466
X-APPLE-STRUCTURED-LOCATION;VALUE=URI;X-ADDRESS=357 Rte de Gourdon\, Cenac-
 et-Saint-Julien\, France;X-APPLE-RADIUS=100;X-TITLE=Château de Maraval:ge
 o:44.7724832,1.22234466
END:VEVENT
BEGIN:VTIMEZONE
TZID:Europe/Paris
X-LIC-LOCATION:Europe/Paris
BEGIN:DAYLIGHT
DTSTART:20250330T030000
TZOFFSETFROM:+0100
TZOFFSETTO:+0200
TZNAME:CEST
END:DAYLIGHT
END:VTIMEZONE
END:VCALENDAR