BEGIN:VCALENDAR
VERSION:2.0
PRODID:-//wp-events-plugin.com//7.2.3.1//EN
TZID:Europe/Paris
X-WR-TIMEZONE:Europe/Paris
BEGIN:VEVENT
UID:5331@agenda24.fr
DTSTART;TZID=Europe/Paris:20250224T140000
DTEND;TZID=Europe/Paris:20250224T153000
DTSTAMP:20250213T102942Z
URL:https://agenda24.fr/evenements/micro-folie-heritage-et-patrimoine-cors
 e/
SUMMARY:Micro Folie - Héritage et patrimoine Corse
DESCRIPTION:Explorer en casque 360° l'univers clair-obscur du Caravage et 
 viviez une immersion en réalité virtuelle de Pompéi.
CATEGORIES:Tourisme / Patrimoine
LOCATION:Salle du Conseil\, Mairie\, Issigeac\, France
GEO:44.7305619;0.60771677
X-APPLE-STRUCTURED-LOCATION;VALUE=URI;X-ADDRESS=Mairie\, Issigeac\, France;
 X-APPLE-RADIUS=100;X-TITLE=Salle du Conseil:geo:44.7305619,0.60771677
END:VEVENT
BEGIN:VTIMEZONE
TZID:Europe/Paris
X-LIC-LOCATION:Europe/Paris
BEGIN:STANDARD
DTSTART:20241027T020000
TZOFFSETFROM:+0200
TZOFFSETTO:+0100
TZNAME:CET
END:STANDARD
END:VTIMEZONE
END:VCALENDAR