BEGIN:VCALENDAR
VERSION:2.0
PRODID:-//wp-events-plugin.com//7.2.3.1//EN
TZID:Europe/Paris
X-WR-TIMEZONE:Europe/Paris
BEGIN:VEVENT
UID:9709@agenda24.fr
DTSTART;TZID=Europe/Paris:20251122T180000
DTEND;TZID=Europe/Paris:20251122T180000
DTSTAMP:20251101T090448Z
URL:https://agenda24.fr/evenements/micro-conference-et-projection-de-loper
 a/
SUMMARY:Micro conférence et projection de l'opéra
DESCRIPTION:18h-19h Micro Conf' et Rencontre Immersion dans l'univers pictu
 ral de l'opéra.\n20h Projection Diffusion de la Traviata de Giuseppe Verd
 i\, lise en scène par Simon Stone(2019 Opéra national de Paris ) Pendant
  les entractes \,expérience virtuelle pour déambuler entre le Palais Gar
 nier et l'Opéra Bastille à travers les souvenirs du chanteur baryton Tim
 othée Varon.\nGratuit sur réservation julia.babylon@ccvfdb.fr
CATEGORIES:Spectacle
LOCATION:4 Avenue Paul Crampel\, 4 Avenue Paul Crampel\, Pays de Belvès\, 
 France
GEO:44.7768881;1.0053206
X-APPLE-STRUCTURED-LOCATION;VALUE=URI;X-ADDRESS=4 Avenue Paul Crampel\, Pay
 s de Belvès\, France;X-APPLE-RADIUS=100;X-TITLE=4 Avenue Paul Crampel:geo
 :44.7768881,1.0053206
END:VEVENT
BEGIN:VTIMEZONE
TZID:Europe/Paris
X-LIC-LOCATION:Europe/Paris
BEGIN:STANDARD
DTSTART:20251026T020000
TZOFFSETFROM:+0200
TZOFFSETTO:+0100
TZNAME:CET
END:STANDARD
END:VTIMEZONE
END:VCALENDAR