BEGIN:VCALENDAR
VERSION:2.0
PRODID:-//wp-events-plugin.com//7.2.3.1//EN
TZID:Europe/Paris
X-WR-TIMEZONE:Europe/Paris
BEGIN:VEVENT
UID:9694@agenda24.fr
DTSTART;TZID=Europe/Paris:20251123T170000
DTEND;TZID=Europe/Paris:20251123T170000
DTSTAMP:20251101T090447Z
URL:https://agenda24.fr/evenements/michel-claude/
SUMMARY:Michel & Claude
DESCRIPTION:AVIGNON OFF 2024\n\nUne épopée contre la montre en santiags e
 t talonnettes qui propulse le public dans les années 70 avec ce duo aussi
  jouissif qu'électrique.\n\nAu sommet de leur gloire\, Michel Polnareff e
 t Claude François\, ennemis jurés\, se retrouvent coincés sur une scèn
 e sans enjeu.\nIls ont une heure pour créer le tube du siècle et sauver 
 leur peau.\nUn ultimatum qui ne leur donne pas d'autre choix que de collab
 orer pour un ancien duo de légende. C'est la gloire ou l'oubli.
CATEGORIES:Spectacle
LOCATION:Centre Culturel\, Centre Culturel\, Sarlat-La-Canéda\, France
GEO:44.8930677;1.2144238
X-APPLE-STRUCTURED-LOCATION;VALUE=URI;X-ADDRESS=Centre Culturel\, Sarlat-La
 -Canéda\, France;X-APPLE-RADIUS=100;X-TITLE=Centre Culturel:geo:44.893067
 7,1.2144238
END:VEVENT
BEGIN:VTIMEZONE
TZID:Europe/Paris
X-LIC-LOCATION:Europe/Paris
BEGIN:STANDARD
DTSTART:20251026T020000
TZOFFSETFROM:+0200
TZOFFSETTO:+0100
TZNAME:CET
END:STANDARD
END:VTIMEZONE
END:VCALENDAR