BEGIN:VCALENDAR
VERSION:2.0
PRODID:-//wp-events-plugin.com//7.2.3.1//EN
TZID:Europe/Paris
X-WR-TIMEZONE:Europe/Paris
BEGIN:VEVENT
UID:11898@agenda24.fr
DTSTART;TZID=Europe/Paris:20260321T163000
DTEND;TZID=Europe/Paris:20260321T210000
DTSTAMP:20260301T135819Z
URL:https://agenda24.fr/evenements/metropolitan-opera-live-tristan-und-iso
 lde/
SUMMARY:Metropolitan Opéra Live : Tristan und Isolde
DESCRIPTION:Samedi 21 mars 2026\, à 18h30\, à l'Espace Culturel André Ma
 lraux de Cendrieux\, retransmission de TRISTAN UND ISOLDE de Richard Wagne
 r en différé du Metropolitan Opera.\n\nTristan et Isolde sont épris l
 ’un de l’autre. Or\, Isolde doit épouser le roi de Cornouailles. Pens
 ant boire une potion mortelle\, ils avalent en réalité un puissant philt
 re d’amour concocté par Brangäne et qui attise la flamme déjà vive d
 e leur passion. Wagner a revisité la légende de Tristan pour en faire un
  drame musical exaltant de romantisme. L’électrisante soprano Lise Davi
 dsen saisit le rôle suprême de la princesse Isolde dans une nouvelle mis
 e en scène\n\nL’association Confluence des Arts et des Savoirs propose 
 pour la saison 2025-2026 les neufs sélections du Metropolitan Opera dans 
 le cadre des diffusions HD-Live\, ainsi qu'une soirée hommage à Maria Ca
 llas.\n\nPlace : 18 euros / Assiette garnie : 9 euros\nSur réservation
CATEGORIES:Spectacle
LOCATION:Espace Culturel André Malraux\, Espace Culturel André Malraux\, 
 Cendrieux\, France
GEO:44.997292;0.8221883
X-APPLE-STRUCTURED-LOCATION;VALUE=URI;X-ADDRESS=Espace Culturel André Malr
 aux\, Cendrieux\, France;X-APPLE-RADIUS=100;X-TITLE=Espace Culturel André
  Malraux:geo:44.997292,0.8221883
END:VEVENT
BEGIN:VTIMEZONE
TZID:Europe/Paris
X-LIC-LOCATION:Europe/Paris
BEGIN:STANDARD
DTSTART:20251026T020000
TZOFFSETFROM:+0200
TZOFFSETTO:+0100
TZNAME:CET
END:STANDARD
END:VTIMEZONE
END:VCALENDAR