BEGIN:VCALENDAR
VERSION:2.0
PRODID:-//wp-events-plugin.com//7.2.3.1//EN
TZID:Europe/Paris
X-WR-TIMEZONE:Europe/Paris
BEGIN:VEVENT
UID:9693@agenda24.fr
DTSTART;TZID=Europe/Paris:20251108T183000
DTEND;TZID=Europe/Paris:20251108T220000
DTSTAMP:20251101T090447Z
URL:https://agenda24.fr/evenements/metropolitan-opera-live-la-boheme/
SUMMARY:Metropolitan Opéra Live - La Bohème
DESCRIPTION:Samedi 8 novembre  2025\, à 18h30\, à l'Espace Culturel Andr
 é Malraux de Cendrieux\, retransmission de LA BOHEME de Giacomo Puccini e
 n différé du Metropolitan Opera.\n\nÀ Paris\, 4 amis artistes\, un poè
 te\, un peintre\, un musicien et un philosophe\, affrontent le froid et la
  faim tant bien que mal avec gaieté. Un jour\, la jeune et frêle Mimi fr
 appe à leur porte et retourne le cœur de Rodolfo. D’abord idyllique\, 
 leur romance fougueuse se heurte aux aléas de la vie… Un décor pittore
 sque\, un livret doux-amer et une musique remarquable : voilà les clés d
 u succès de cet opéra parmi les plus populaires au monde ! \n\nL’assoc
 iation Confluence des Arts et des Savoirs propose pour la saison 2025-2026
  les neufs sélections du Metropolitan Opera dans le cadre des diffusions 
 HD-Live\, ainsi qu'une soirée hommage à Maria Callas.\n\nPlace : 18 euro
 s / Assiette garnie : 9 euros\nSur réservation
CATEGORIES:Spectacle
LOCATION:Espace Culturel André Malraux\, Espace Culturel André Malraux\, 
 Cendrieux\, France
GEO:44.997292;0.8221883
X-APPLE-STRUCTURED-LOCATION;VALUE=URI;X-ADDRESS=Espace Culturel André Malr
 aux\, Cendrieux\, France;X-APPLE-RADIUS=100;X-TITLE=Espace Culturel André
  Malraux:geo:44.997292,0.8221883
END:VEVENT
BEGIN:VTIMEZONE
TZID:Europe/Paris
X-LIC-LOCATION:Europe/Paris
BEGIN:STANDARD
DTSTART:20251026T020000
TZOFFSETFROM:+0200
TZOFFSETTO:+0100
TZNAME:CET
END:STANDARD
END:VTIMEZONE
END:VCALENDAR