BEGIN:VCALENDAR
VERSION:2.0
PRODID:-//wp-events-plugin.com//7.2.3.1//EN
TZID:Europe/Paris
X-WR-TIMEZONE:Europe/Paris
BEGIN:VEVENT
UID:5268@agenda24.fr
DTSTART;TZID=Europe/Paris:20250315T180000
DTEND;TZID=Europe/Paris:20250315T220000
DTSTAMP:20250213T103011Z
URL:https://agenda24.fr/evenements/metropolitan-opera-live-fidelio/
SUMMARY:Metropolitan Opéra Live - Fidelio
DESCRIPTION:Samedi 15 mars 2025\, à 18h30\, à l'Espace Culturel André Ma
 lraux de Cendrieux\, retransmission de FIDELIO de BEETHOVEN en différé d
 u Metropolitan Opera.\n\nL'association Confluence des Arts et Savoirs prop
 ose la retransmission d'opéras en live du Metropolitan Opera de New York 
 à l'Espace Culturel André Malraux de Cendrieux\, le samedi à partir de 
 18h30. \nLe Metropolitan Opera dévoile sa saison 2024-2025 : quatre opér
 as contemporains\, deux nouvelles productions de répertoires et de nombre
 uses reprises tantôt portées par des distributions prestigieuses\, tant
 ôt par des étoiles montantes des scènes lyriques.\n\nPlace : 18 euros /
  Assiette garnie : 9 euros\nSur réservation
CATEGORIES:Spectacle
LOCATION:Espace Culturel André Malraux\, Espace Culturel André Malraux\, 
 Cendrieux\, France
GEO:44.9971706;0.82219902
X-APPLE-STRUCTURED-LOCATION;VALUE=URI;X-ADDRESS=Espace Culturel André Malr
 aux\, Cendrieux\, France;X-APPLE-RADIUS=100;X-TITLE=Espace Culturel André
  Malraux:geo:44.9971706,0.82219902
END:VEVENT
BEGIN:VTIMEZONE
TZID:Europe/Paris
X-LIC-LOCATION:Europe/Paris
BEGIN:STANDARD
DTSTART:20241027T020000
TZOFFSETFROM:+0200
TZOFFSETTO:+0100
TZNAME:CET
END:STANDARD
END:VTIMEZONE
END:VCALENDAR