BEGIN:VCALENDAR
VERSION:2.0
PRODID:-//wp-events-plugin.com//7.2.3.1//EN
TZID:Europe/Paris
X-WR-TIMEZONE:Europe/Paris
BEGIN:VEVENT
UID:9692@agenda24.fr
DTSTART;TZID=Europe/Paris:20251122T183000
DTEND;TZID=Europe/Paris:20251122T220000
DTSTAMP:20251101T090447Z
URL:https://agenda24.fr/evenements/metropolitan-opera-live-arabella/
SUMMARY:Metropolitan Opéra Live - Arabella
DESCRIPTION:Samedi 22 novembre  2025\, à 18h30\, à l'Espace Culturel Andr
 é Malraux de Cendrieux\, retransmission de ARABELLA de Richard Strauss en
  différé du Metropolitan Opera.\n\nLe comte Waldner a perdu toute sa for
 tune au jeu et espère un mariage heureux pour sa jolie fille Arabella. Pa
 rmi ses prétendants se trouve Matteo\, qui reçoit des lettres enflammée
 s qu’il pense être d’Arabella\, mais qui viennent en réalité de sa 
 sœur\, Zdenka.\n\nL’association Confluence des Arts et des Savoirs prop
 ose pour la saison 2025-2026 les neufs sélections du Metropolitan Opera d
 ans le cadre des diffusions HD-Live\, ainsi qu'une soirée hommage à Mari
 a Callas.\n\nPlace : 18 euros / Assiette garnie : 9 euros\nSur réservatio
 n
CATEGORIES:Spectacle
LOCATION:Espace Culturel André Malraux\, Espace Culturel André Malraux\, 
 Cendrieux\, France
GEO:44.997292;0.8221883
X-APPLE-STRUCTURED-LOCATION;VALUE=URI;X-ADDRESS=Espace Culturel André Malr
 aux\, Cendrieux\, France;X-APPLE-RADIUS=100;X-TITLE=Espace Culturel André
  Malraux:geo:44.997292,0.8221883
END:VEVENT
BEGIN:VTIMEZONE
TZID:Europe/Paris
X-LIC-LOCATION:Europe/Paris
BEGIN:STANDARD
DTSTART:20251026T020000
TZOFFSETFROM:+0200
TZOFFSETTO:+0100
TZNAME:CET
END:STANDARD
END:VTIMEZONE
END:VCALENDAR