BEGIN:VCALENDAR
VERSION:2.0
PRODID:-//wp-events-plugin.com//7.2.3.1//EN
TZID:Europe/Paris
X-WR-TIMEZONE:Europe/Paris
BEGIN:VEVENT
UID:9691@agenda24.fr
DTSTART;TZID=Europe/Paris:20251213T183000
DTEND;TZID=Europe/Paris:20251213T220000
DTSTAMP:20251101T090447Z
URL:https://agenda24.fr/evenements/metropolitan-opera-live-andrea-chenier/
SUMMARY:Metropolitan Opéra Live - Andrea Chénier
DESCRIPTION:Samedi 13 décembre  2025\, à 18h30\, à l'Espace Culturel And
 ré Malraux de Cendrieux\, retransmission de ANDREA CHENIER de Umberto Gio
 rdano en différé du Metropolitan Opera.\n\nAlors que la Révolution fran
 çaise fait rage\, Maddalena envoie des lettres d’appel à l’aide au p
 oète Andrea Chénier. Ils se sont connus à l’époque somptueuse des f
 êtes de sa mère la comtesse de Coigny. Gérard\, l’ancien valet devenu
  officier de la Révolution\, se dresse entre les deux amants.\nL’opéra
  de Giordano est inspiré du poète romantique André Chénier\, connu pou
 r son engagement contre les excès de la Révolution française. \n\nL’a
 ssociation Confluence des Arts et des Savoirs propose pour la saison 2025-
 2026 les neufs sélections du Metropolitan Opera dans le cadre des diffusi
 ons HD-Live\, ainsi qu'une soirée hommage à Maria Callas.\n\nPlace : 18 
 euros / Assiette garnie : 9 euros\nSur réservation
CATEGORIES:Spectacle
LOCATION:Espace Culturel André Malraux\, Espace Culturel André Malraux\, 
 Cendrieux\, France
GEO:44.997292;0.8221883
X-APPLE-STRUCTURED-LOCATION;VALUE=URI;X-ADDRESS=Espace Culturel André Malr
 aux\, Cendrieux\, France;X-APPLE-RADIUS=100;X-TITLE=Espace Culturel André
  Malraux:geo:44.997292,0.8221883
END:VEVENT
BEGIN:VTIMEZONE
TZID:Europe/Paris
X-LIC-LOCATION:Europe/Paris
BEGIN:STANDARD
DTSTART:20251026T020000
TZOFFSETFROM:+0200
TZOFFSETTO:+0100
TZNAME:CET
END:STANDARD
END:VTIMEZONE
END:VCALENDAR