BEGIN:VCALENDAR
VERSION:2.0
PRODID:-//wp-events-plugin.com//7.2.3.1//EN
TZID:Europe/Paris
X-WR-TIMEZONE:Europe/Paris
BEGIN:VEVENT
UID:3843@agenda24.fr
DTSTART;TZID=Europe/Paris:20241113T094500
DTEND;TZID=Europe/Paris:20241113T114500
DTSTAMP:20241030T085702Z
URL:https://agenda24.fr/evenements/mercredi-recreatif/
SUMMARY:Mercredi récréatif
DESCRIPTION:
CATEGORIES:Dédié aux enfants
LOCATION:Bibliothèque\, Le bourg\, Grignols\, France
GEO:45.0832357;0.53974846
X-APPLE-STRUCTURED-LOCATION;VALUE=URI;X-ADDRESS=Le bourg\, Grignols\, Franc
 e;X-APPLE-RADIUS=100;X-TITLE=Bibliothèque:geo:45.0832357,0.53974846
END:VEVENT
BEGIN:VTIMEZONE
TZID:Europe/Paris
X-LIC-LOCATION:Europe/Paris
BEGIN:STANDARD
DTSTART:20241027T020000
TZOFFSETFROM:+0200
TZOFFSETTO:+0100
TZNAME:CET
END:STANDARD
END:VTIMEZONE
END:VCALENDAR