BEGIN:VCALENDAR
VERSION:2.0
PRODID:-//wp-events-plugin.com//7.2.3.1//EN
TZID:Europe/Paris
X-WR-TIMEZONE:Europe/Paris
BEGIN:VEVENT
UID:5126@agenda24.fr
DTSTART;TZID=Europe/Paris:20250305T153000
DTEND;TZID=Europe/Paris:20250305T163000
DTSTAMP:20250213T093421Z
URL:https://agenda24.fr/evenements/mercredi-cest-patrimoine-sur-les-traces
 -demma-reyes/
SUMMARY:Mercredi\, c’est patrimoine ! - Sur les traces d'Emma Reyes
DESCRIPTION:Les enfants et familles sont invités à découvrir l'œuvre qu
 'Emma Reyes a réalisée pour le hall de la Médiathèque et à réaliser 
 une œuvre colorée et végétale s'inspirant du travail de cette artiste 
 colombienne attachée à la Ville de Périgueux.\n\nDurée : 1h\nRendez-vo
 us : Médiathèque Pierre Fanlac\n\nRéservation obligatoire I À partir d
 e 4 ans. Accompagnement obligatoire d’un adulte pour les mineurs.
CATEGORIES:Rencontre / Conférence / Discussion
LOCATION:Médiathèque Pierre Fanlac\, 12 Avenue Georges Pompidou\, Périgu
 eux\, France
GEO:45.18861;0.72332
X-APPLE-STRUCTURED-LOCATION;VALUE=URI;X-ADDRESS=12 Avenue Georges Pompidou\
 , Périgueux\, France;X-APPLE-RADIUS=100;X-TITLE=Médiathèque Pierre Fanl
 ac:geo:45.18861,0.72332
END:VEVENT
BEGIN:VTIMEZONE
TZID:Europe/Paris
X-LIC-LOCATION:Europe/Paris
BEGIN:STANDARD
DTSTART:20241027T020000
TZOFFSETFROM:+0200
TZOFFSETTO:+0100
TZNAME:CET
END:STANDARD
END:VTIMEZONE
END:VCALENDAR