BEGIN:VCALENDAR
VERSION:2.0
PRODID:-//wp-events-plugin.com//7.2.3.1//EN
TZID:Europe/Paris
X-WR-TIMEZONE:Europe/Paris
BEGIN:VEVENT
UID:8296@agenda24.fr
DTSTART;TZID=Europe/Paris:20250924T160000
DTEND;TZID=Europe/Paris:20250924T160000
DTSTAMP:20250905T092331Z
URL:https://agenda24.fr/evenements/melinali-des-livres-jeunesse-lectures/
SUMMARY:Mélinali des livres jeunesse (lectures)
DESCRIPTION:Avis à nos jeunes lecteur.ices !\nDepuis le mois d'août\, des
  lectures jeunesse sont proposées une fois par mois à la librairie par M
 élanie !\n\nOn vous invite à faire le plein de magie\, d'aventures et de
  rires le mercredi 24 septembre à 16h.
CATEGORIES:Dédié aux enfants,Rencontre / Conférence / Discussion
LOCATION:Librairie La Mauvaise Herbe\, 17 rue du Temple\, Eymet\, France
GEO:44.666604;0.39715
X-APPLE-STRUCTURED-LOCATION;VALUE=URI;X-ADDRESS=17 rue du Temple\, Eymet\, 
 France;X-APPLE-RADIUS=100;X-TITLE=Librairie La Mauvaise Herbe:geo:44.66660
 4,0.39715
END:VEVENT
BEGIN:VTIMEZONE
TZID:Europe/Paris
X-LIC-LOCATION:Europe/Paris
BEGIN:DAYLIGHT
DTSTART:20250330T030000
TZOFFSETFROM:+0100
TZOFFSETTO:+0200
TZNAME:CEST
END:DAYLIGHT
END:VTIMEZONE
END:VCALENDAR