BEGIN:VCALENDAR
VERSION:2.0
PRODID:-//wp-events-plugin.com//7.2.3.1//EN
TZID:Europe/Paris
X-WR-TIMEZONE:Europe/Paris
BEGIN:VEVENT
UID:10805@agenda24.fr
DTSTART;TZID=Europe/Paris:20260306T000000
DTEND;TZID=Europe/Paris:20260306T000000
DTSTAMP:20260225T080814Z
URL:https://agenda24.fr/evenements/mecanique-velo-au-feminin/
SUMMARY:Mécanique vélo au féminin
DESCRIPTION:2h30 pour apprendre la mécanique du vélo
ATTACH;FMTTYPE=image/jpeg:https://agenda24.fr/wp-content/uploads/2026/02/C
 apture-decran-2026-02-25-a-09.07.12.png
CATEGORIES:Atelier / Stage
LOCATION:Des Jantes et des gens\, 42 chemin de Saltgourde \, Périgueux \, 
 24000\, France
GEO:45.196292;0.677691
X-APPLE-STRUCTURED-LOCATION;VALUE=URI;X-ADDRESS=42 chemin de Saltgourde \, 
 Périgueux \, 24000\, France;X-APPLE-RADIUS=100;X-TITLE=Des Jantes et des 
 gens:geo:45.196292,0.677691
END:VEVENT
BEGIN:VTIMEZONE
TZID:Europe/Paris
X-LIC-LOCATION:Europe/Paris
BEGIN:STANDARD
DTSTART:20251026T020000
TZOFFSETFROM:+0200
TZOFFSETTO:+0100
TZNAME:CET
END:STANDARD
END:VTIMEZONE
END:VCALENDAR