BEGIN:VCALENDAR
VERSION:2.0
PRODID:-//wp-events-plugin.com//7.2.3.1//EN
TZID:Europe/Paris
X-WR-TIMEZONE:Europe/Paris
BEGIN:VEVENT
UID:11709@agenda24.fr
DTSTART;TZID=Europe/Paris:20260307T093000
DTEND;TZID=Europe/Paris:20260307T123000
DTSTAMP:20260301T135042Z
URL:https://agenda24.fr/evenements/matinee-decouverte-de-la-meditation-zen
 -zazen-3/
SUMMARY:Matinée découverte de la méditation Zen ( Zazen )
DESCRIPTION:Thé d’accueil\nPrésentation du zen\nInitiation à la médit
 ation zen\nQuestions réponses\n
CATEGORIES:Atelier / Stage
LOCATION:Monastère Zen Kanshoji\, 208 Chemin du Monastère\, La Coquille\,
  France
GEO:45.5563657;1.0030283
X-APPLE-STRUCTURED-LOCATION;VALUE=URI;X-ADDRESS=208 Chemin du Monastère\, 
 La Coquille\, France;X-APPLE-RADIUS=100;X-TITLE=Monastère Zen Kanshoji:ge
 o:45.5563657,1.0030283
END:VEVENT
BEGIN:VTIMEZONE
TZID:Europe/Paris
X-LIC-LOCATION:Europe/Paris
BEGIN:STANDARD
DTSTART:20251026T020000
TZOFFSETFROM:+0200
TZOFFSETTO:+0100
TZNAME:CET
END:STANDARD
END:VTIMEZONE
END:VCALENDAR