BEGIN:VCALENDAR
VERSION:2.0
PRODID:-//wp-events-plugin.com//7.2.3.1//EN
TZID:Europe/Paris
X-WR-TIMEZONE:Europe/Paris
BEGIN:VEVENT
UID:11663@agenda24.fr
DTSTART;TZID=Europe/Paris:20260314T190000
DTEND;TZID=Europe/Paris:20260314T234500
DTSTAMP:20260227T111645Z
URL:https://agenda24.fr/evenements/martine-va-danser-entre-meufs/
SUMMARY:Martine va danser entre meufs
DESCRIPTION:Martine va danser entre meufs ! le 14 mars aux Paulissonnes.\n\
 nbienvenue aux MINT !\n\nC’est une soirée avec DJ Set et initiation aux
  platines par DJ Gigi.\n\nrepas sur place (mafé vege ou carne).\n\n&nbsp\
 ;\n\nà partir de 19h\, 3 euros l’entrée.\n\ncontact : 06 32 62 65 95\n
 \nSoirée organisée par Femmes Solidaires Périgord vert.\n\n&nbsp\;
CATEGORIES:Evènement à thème
LOCATION:Café asso les Paulissonnes\, le bourg\, Saint Paul la Roche\, Dor
 dogne\, 24800\, Nouvelle Aquitaine\, France
X-APPLE-STRUCTURED-LOCATION;VALUE=URI;X-ADDRESS=le bourg\, Saint Paul la Ro
 che\, Dordogne\, 24800\, Nouvelle Aquitaine\, France;X-APPLE-RADIUS=100;X-
 TITLE=Café asso les Paulissonnes:geo:0,0
END:VEVENT
BEGIN:VTIMEZONE
TZID:Europe/Paris
X-LIC-LOCATION:Europe/Paris
BEGIN:STANDARD
DTSTART:20251026T020000
TZOFFSETFROM:+0200
TZOFFSETTO:+0100
TZNAME:CET
END:STANDARD
END:VTIMEZONE
END:VCALENDAR