BEGIN:VCALENDAR
VERSION:2.0
PRODID:-//wp-events-plugin.com//7.2.3.1//EN
TZID:Europe/Paris
X-WR-TIMEZONE:Europe/Paris
BEGIN:VEVENT
UID:5945@agenda24.fr
DTSTART;TZID=Europe/Paris:20250427T100000
DTEND;TZID=Europe/Paris:20250427T170000
DTSTAMP:20250326T140650Z
URL:https://agenda24.fr/evenements/marche-dartisanat-et-dart/
SUMMARY:Marché d’Artisanat et d’Art
DESCRIPTION:Organisé par ARTISIO avec une vingtaine d’exposants. \n\nSe 
 garer sur le parking de l’église de Puymangou et accéder au parc du ch
 âteau par l’entrée piétonne située en face de la grille du cimetièr
 e.\n\nSans réservation préalable.\n\nCette animation est prévue en ext
 érieur sans possibilité de repli en cas de mauvais temps (annulation pos
 sible).\n\nAu cours de cette animation\, vous aurez accès aux extérieurs
  du château. 
CATEGORIES:Marché / Foire / Brocante
LOCATION:Château de Puymangou\, Le bourg de Puymangou\, Puymangou\, France
GEO:45.1920453;0.07685023
X-APPLE-STRUCTURED-LOCATION;VALUE=URI;X-ADDRESS=Le bourg de Puymangou\, Puy
 mangou\, France;X-APPLE-RADIUS=100;X-TITLE=Château de Puymangou:geo:45.19
 20453,0.07685023
END:VEVENT
BEGIN:VTIMEZONE
TZID:Europe/Paris
X-LIC-LOCATION:Europe/Paris
BEGIN:DAYLIGHT
DTSTART:20250330T030000
TZOFFSETFROM:+0100
TZOFFSETTO:+0200
TZNAME:CEST
END:DAYLIGHT
END:VTIMEZONE
END:VCALENDAR