BEGIN:VCALENDAR
VERSION:2.0
PRODID:-//wp-events-plugin.com//7.2.3.1//EN
TZID:Europe/Paris
X-WR-TIMEZONE:Europe/Paris
BEGIN:VEVENT
UID:5941@agenda24.fr
DTSTART;TZID=Europe/Paris:20250420T110000
DTEND;TZID=Europe/Paris:20250420T180000
DTSTAMP:20250326T140649Z
URL:https://agenda24.fr/evenements/marche-artisanal/
SUMMARY:Marché artisanal
DESCRIPTION:Nous vous proposons un marché artisanal avec un service de res
 tauration. \n\nSans réservation préalable. \n\nCette animation se dérou
 le en extérieur sans possibilité de repli à l'intérieur en cas de mauv
 ais temps (annulation possible).
CATEGORIES:Marché / Foire / Brocante
LOCATION:Château de Chanet\, Route de la Vallée de la Belle\, Mareuil en 
 Périgord\, France
GEO:45.42777;0.49991
X-APPLE-STRUCTURED-LOCATION;VALUE=URI;X-ADDRESS=Route de la Vallée de la B
 elle\, Mareuil en Périgord\, France;X-APPLE-RADIUS=100;X-TITLE=Château d
 e Chanet:geo:45.42777,0.49991
END:VEVENT
BEGIN:VTIMEZONE
TZID:Europe/Paris
X-LIC-LOCATION:Europe/Paris
BEGIN:DAYLIGHT
DTSTART:20250330T030000
TZOFFSETFROM:+0100
TZOFFSETTO:+0200
TZNAME:CEST
END:DAYLIGHT
END:VTIMEZONE
END:VCALENDAR