BEGIN:VCALENDAR
VERSION:2.0
PRODID:-//wp-events-plugin.com//7.2.3.1//EN
TZID:Europe/Paris
X-WR-TIMEZONE:Europe/Paris
BEGIN:VEVENT
UID:3937@agenda24.fr
DTSTART;TZID=Europe/Paris:20241130T203000
DTEND;TZID=Europe/Paris:20241130T203000
DTSTAMP:20241030T085229Z
URL:https://agenda24.fr/evenements/loto-du-telethon/
SUMMARY:Loto du Téléthon
DESCRIPTION:
CATEGORIES:Jeux
LOCATION:Salle des fêtes\, Salle des fêtes\, Lamothe-Montravel\, France
GEO:44.85236;0.02022
X-APPLE-STRUCTURED-LOCATION;VALUE=URI;X-ADDRESS=Salle des fêtes\, Lamothe-
 Montravel\, France;X-APPLE-RADIUS=100;X-TITLE=Salle des fêtes:geo:44.8523
 6,0.02022
END:VEVENT
BEGIN:VTIMEZONE
TZID:Europe/Paris
X-LIC-LOCATION:Europe/Paris
BEGIN:STANDARD
DTSTART:20241027T020000
TZOFFSETFROM:+0200
TZOFFSETTO:+0100
TZNAME:CET
END:STANDARD
END:VTIMEZONE
END:VCALENDAR