BEGIN:VCALENDAR
VERSION:2.0
PRODID:-//wp-events-plugin.com//7.2.3.1//EN
TZID:Europe/Paris
X-WR-TIMEZONE:Europe/Paris
BEGIN:VEVENT
UID:3916@agenda24.fr
DTSTART;TZID=Europe/Paris:20241101T203000
DTEND;TZID=Europe/Paris:20241101T203000
DTSTAMP:20241030T085239Z
URL:https://agenda24.fr/evenements/loto-du-foot-4/
SUMMARY:Loto du foot
DESCRIPTION:
CATEGORIES:Jeux
LOCATION:Foyer Rural\, Foyer Rural\, Menesplet\, France
GEO:45.0163443;0.10738458
X-APPLE-STRUCTURED-LOCATION;VALUE=URI;X-ADDRESS=Foyer Rural\, Menesplet\, F
 rance;X-APPLE-RADIUS=100;X-TITLE=Foyer Rural:geo:45.0163443,0.10738458
END:VEVENT
BEGIN:VTIMEZONE
TZID:Europe/Paris
X-LIC-LOCATION:Europe/Paris
BEGIN:STANDARD
DTSTART:20241027T020000
TZOFFSETFROM:+0200
TZOFFSETTO:+0100
TZNAME:CET
END:STANDARD
END:VTIMEZONE
END:VCALENDAR