BEGIN:VCALENDAR
VERSION:2.0
PRODID:-//wp-events-plugin.com//7.2.3.1//EN
TZID:Europe/Paris
X-WR-TIMEZONE:Europe/Paris
BEGIN:VEVENT
UID:10321@agenda24.fr
DTSTART;TZID=Europe/Paris:20251227T204500
DTEND;TZID=Europe/Paris:20251227T204500
DTSTAMP:20251210T134619Z
URL:https://agenda24.fr/evenements/loto-du-car-football/
SUMMARY:Loto du CAR Football
DESCRIPTION:Loto du CAR FOOTBALL à l'espace André Malraux dès 20h45
CATEGORIES:Jeux
LOCATION:Place des Beauvières\, Place des Beauvières\, Riberac\, France
GEO:45.2497367;0.3372282
X-APPLE-STRUCTURED-LOCATION;VALUE=URI;X-ADDRESS=Place des Beauvières\, Rib
 erac\, France;X-APPLE-RADIUS=100;X-TITLE=Place des Beauvières:geo:45.2497
 367,0.3372282
END:VEVENT
BEGIN:VTIMEZONE
TZID:Europe/Paris
X-LIC-LOCATION:Europe/Paris
BEGIN:STANDARD
DTSTART:20251026T020000
TZOFFSETFROM:+0200
TZOFFSETTO:+0100
TZNAME:CET
END:STANDARD
END:VTIMEZONE
END:VCALENDAR