BEGIN:VCALENDAR
VERSION:2.0
PRODID:-//wp-events-plugin.com//7.2.3.1//EN
TZID:Europe/Paris
X-WR-TIMEZONE:Europe/Paris
BEGIN:VEVENT
UID:4448@agenda24.fr
DTSTART;TZID=Europe/Paris:20241222T143000
DTEND;TZID=Europe/Paris:20241222T143000
DTSTAMP:20241214T154212Z
URL:https://agenda24.fr/evenements/loto-des-enfants/
SUMMARY:Loto des enfants
DESCRIPTION:
CATEGORIES:Jeux
LOCATION:Salle des Fêtes\, Salle des Fêtes\, Echourgnac\, France
GEO:45.12608;0.22992
X-APPLE-STRUCTURED-LOCATION;VALUE=URI;X-ADDRESS=Salle des Fêtes\, Echourgn
 ac\, France;X-APPLE-RADIUS=100;X-TITLE=Salle des Fêtes:geo:45.12608,0.229
 92
END:VEVENT
BEGIN:VTIMEZONE
TZID:Europe/Paris
X-LIC-LOCATION:Europe/Paris
BEGIN:STANDARD
DTSTART:20241027T020000
TZOFFSETFROM:+0200
TZOFFSETTO:+0100
TZNAME:CET
END:STANDARD
END:VTIMEZONE
END:VCALENDAR