BEGIN:VCALENDAR
VERSION:2.0
PRODID:-//wp-events-plugin.com//7.2.3.1//EN
TZID:Europe/Paris
X-WR-TIMEZONE:Europe/Paris
BEGIN:VEVENT
UID:5914@agenda24.fr
DTSTART;TZID=Europe/Paris:20250406T143000
DTEND;TZID=Europe/Paris:20250406T143000
DTSTAMP:20250326T140657Z
URL:https://agenda24.fr/evenements/loto-des-ecoles-5/
SUMMARY:Loto des Écoles
DESCRIPTION:Venez participer au loto des écoles !\nDe nombreux lots à gag
 ner : cookeo\, plancha électrique\, un séjour de 2 jours au thermes de C
 asteljaloux\, bons repas\, entrées parcs\, paniers garnis..\nPâtisseries
  et buvette sur place.
CATEGORIES:Jeux
LOCATION:Salle des Fêtes\, Salle des Fêtes\, Razac-D'eymet\, France
GEO:44.6933137;0.4696509
X-APPLE-STRUCTURED-LOCATION;VALUE=URI;X-ADDRESS=Salle des Fêtes\, Razac-D'
 eymet\, France;X-APPLE-RADIUS=100;X-TITLE=Salle des Fêtes:geo:44.6933137,
 0.4696509
END:VEVENT
BEGIN:VTIMEZONE
TZID:Europe/Paris
X-LIC-LOCATION:Europe/Paris
BEGIN:DAYLIGHT
DTSTART:20250330T030000
TZOFFSETFROM:+0100
TZOFFSETTO:+0200
TZNAME:CEST
END:DAYLIGHT
END:VTIMEZONE
END:VCALENDAR