BEGIN:VCALENDAR
VERSION:2.0
PRODID:-//wp-events-plugin.com//7.2.3.1//EN
TZID:Europe/Paris
X-WR-TIMEZONE:Europe/Paris
BEGIN:VEVENT
UID:3919@agenda24.fr
DTSTART;TZID=Europe/Paris:20241031T190000
DTEND;TZID=Europe/Paris:20241031T190000
DTSTAMP:20241030T085240Z
URL:https://agenda24.fr/evenements/loto-des-ecoles-3/
SUMMARY:Loto des écoles
DESCRIPTION:
CATEGORIES:Jeux
LOCATION:Salle de convivialité\, Salle de convivialité\, Eyzerac\, France
GEO:45.3882458;0.92082671
X-APPLE-STRUCTURED-LOCATION;VALUE=URI;X-ADDRESS=Salle de convivialité\, Ey
 zerac\, France;X-APPLE-RADIUS=100;X-TITLE=Salle de convivialité:geo:45.38
 82458,0.92082671
END:VEVENT
BEGIN:VTIMEZONE
TZID:Europe/Paris
X-LIC-LOCATION:Europe/Paris
BEGIN:STANDARD
DTSTART:20241027T020000
TZOFFSETFROM:+0200
TZOFFSETTO:+0100
TZNAME:CET
END:STANDARD
END:VTIMEZONE
END:VCALENDAR