BEGIN:VCALENDAR
VERSION:2.0
PRODID:-//wp-events-plugin.com//7.2.3.1//EN
TZID:Europe/Paris
X-WR-TIMEZONE:Europe/Paris
BEGIN:VEVENT
UID:10215@agenda24.fr
DTSTART;TZID=Europe/Paris:20251212T180000
DTEND;TZID=Europe/Paris:20251212T180000
DTSTAMP:20251210T134244Z
URL:https://agenda24.fr/evenements/loto-decale/
SUMMARY:Loto décalé
DESCRIPTION:Décalé comme depuis 2 ans\, un loto pour gagner et/ou pour ri
 re\, pour se retrouver. Un bol de rire\, et la généreuse participation d
 es commerçants lindois !\nRéservation conseillée.
CATEGORIES:Evènement à thème
LOCATION:Café l'Imaginaire\, 4 rue du Pont\, Lalinde\, France
GEO:44.8361579;0.7398912
X-APPLE-STRUCTURED-LOCATION;VALUE=URI;X-ADDRESS=4 rue du Pont\, Lalinde\, F
 rance;X-APPLE-RADIUS=100;X-TITLE=Café l'Imaginaire:geo:44.8361579,0.73989
 12
END:VEVENT
BEGIN:VTIMEZONE
TZID:Europe/Paris
X-LIC-LOCATION:Europe/Paris
BEGIN:STANDARD
DTSTART:20251026T020000
TZOFFSETFROM:+0200
TZOFFSETTO:+0100
TZNAME:CET
END:STANDARD
END:VTIMEZONE
END:VCALENDAR