BEGIN:VCALENDAR
VERSION:2.0
PRODID:-//wp-events-plugin.com//7.2.3.1//EN
TZID:Europe/Paris
X-WR-TIMEZONE:Europe/Paris
BEGIN:VEVENT
UID:10316@agenda24.fr
DTSTART;TZID=Europe/Paris:20251220T190000
DTEND;TZID=Europe/Paris:20251220T190000
DTSTAMP:20251210T134619Z
URL:https://agenda24.fr/evenements/loto-de-noel/
SUMMARY:Loto de Noël
DESCRIPTION:14 parties\, dont partie spéciale\, partie Corse et bourriche.
 \nNombreux lots à gagner\, buvette et petite restauration sur place.\nAni
 mé par Jean-Marie.\nOrganisé par le comité des fêtes albarédien.\nRé
 servation obligatoire.
CATEGORIES:Jeux
LOCATION:Salle des fêtes\, le bourg\, Saint-Martial-D'albarede\, France
GEO:45.32613;1.0329
X-APPLE-STRUCTURED-LOCATION;VALUE=URI;X-ADDRESS=le bourg\, Saint-Martial-D'
 albarede\, France;X-APPLE-RADIUS=100;X-TITLE=Salle des fêtes:geo:45.32613
 ,1.0329
END:VEVENT
BEGIN:VTIMEZONE
TZID:Europe/Paris
X-LIC-LOCATION:Europe/Paris
BEGIN:STANDARD
DTSTART:20251026T020000
TZOFFSETFROM:+0200
TZOFFSETTO:+0100
TZNAME:CET
END:STANDARD
END:VTIMEZONE
END:VCALENDAR